BEGIN:VCALENDAR
VERSION:2.0
PRODID:-//The Housing Authority of the City of Old Town - ECPv6.15.20//NONSGML v1.0//EN
CALSCALE:GREGORIAN
METHOD:PUBLISH
X-WR-CALNAME:The Housing Authority of the City of Old Town
X-ORIGINAL-URL:https://oldtownhousing.net
X-WR-CALDESC:Events for The Housing Authority of the City of Old Town
REFRESH-INTERVAL;VALUE=DURATION:PT1H
X-Robots-Tag:noindex
X-PUBLISHED-TTL:PT1H
BEGIN:VTIMEZONE
TZID:America/New_York
BEGIN:DAYLIGHT
TZOFFSETFROM:-0500
TZOFFSETTO:-0400
TZNAME:EDT
DTSTART:20220313T070000
END:DAYLIGHT
BEGIN:STANDARD
TZOFFSETFROM:-0400
TZOFFSETTO:-0500
TZNAME:EST
DTSTART:20221106T060000
END:STANDARD
BEGIN:DAYLIGHT
TZOFFSETFROM:-0500
TZOFFSETTO:-0400
TZNAME:EDT
DTSTART:20230312T070000
END:DAYLIGHT
BEGIN:STANDARD
TZOFFSETFROM:-0400
TZOFFSETTO:-0500
TZNAME:EST
DTSTART:20231105T060000
END:STANDARD
BEGIN:DAYLIGHT
TZOFFSETFROM:-0500
TZOFFSETTO:-0400
TZNAME:EDT
DTSTART:20240310T070000
END:DAYLIGHT
BEGIN:STANDARD
TZOFFSETFROM:-0400
TZOFFSETTO:-0500
TZNAME:EST
DTSTART:20241103T060000
END:STANDARD
BEGIN:DAYLIGHT
TZOFFSETFROM:-0500
TZOFFSETTO:-0400
TZNAME:EDT
DTSTART:20250309T070000
END:DAYLIGHT
BEGIN:STANDARD
TZOFFSETFROM:-0400
TZOFFSETTO:-0500
TZNAME:EST
DTSTART:20251102T060000
END:STANDARD
BEGIN:DAYLIGHT
TZOFFSETFROM:-0500
TZOFFSETTO:-0400
TZNAME:EDT
DTSTART:20260308T070000
END:DAYLIGHT
BEGIN:STANDARD
TZOFFSETFROM:-0400
TZOFFSETTO:-0500
TZNAME:EST
DTSTART:20261101T060000
END:STANDARD
BEGIN:DAYLIGHT
TZOFFSETFROM:-0500
TZOFFSETTO:-0400
TZNAME:EDT
DTSTART:20270314T070000
END:DAYLIGHT
BEGIN:STANDARD
TZOFFSETFROM:-0400
TZOFFSETTO:-0500
TZNAME:EST
DTSTART:20271107T060000
END:STANDARD
END:VTIMEZONE
BEGIN:VEVENT
DTSTART;TZID=America/New_York:20230710T090000
DTEND;TZID=America/New_York:20230710T103000
DTSTAMP:20260422T184756
CREATED:20230127T160534Z
LAST-MODIFIED:20230127T161624Z
UID:1806-1688979600-1688985000@oldtownhousing.net
SUMMARY:Board Meeting
DESCRIPTION:HACOT Board of Commissioners meeting
URL:https://oldtownhousing.net/event/board-meeting-18/
CATEGORIES:Public
END:VEVENT
BEGIN:VEVENT
DTSTART;TZID=America/New_York:20230814T090000
DTEND;TZID=America/New_York:20230814T103000
DTSTAMP:20260422T184756
CREATED:20230127T160722Z
LAST-MODIFIED:20230127T161624Z
UID:1808-1692003600-1692009000@oldtownhousing.net
SUMMARY:Board Meeting
DESCRIPTION:HACOT Board of Commissioners meeting
URL:https://oldtownhousing.net/event/board-meeting-19/
CATEGORIES:Public
END:VEVENT
BEGIN:VEVENT
DTSTART;TZID=America/New_York:20230911T090000
DTEND;TZID=America/New_York:20230911T103000
DTSTAMP:20260422T184756
CREATED:20230127T160750Z
LAST-MODIFIED:20230127T161624Z
UID:1810-1694422800-1694428200@oldtownhousing.net
SUMMARY:Board Meeting
DESCRIPTION:HACOT Board of Commissioners meeting
URL:https://oldtownhousing.net/event/board-meeting-20/
CATEGORIES:Public
END:VEVENT
BEGIN:VEVENT
DTSTART;TZID=America/New_York:20231010T090000
DTEND;TZID=America/New_York:20231010T103000
DTSTAMP:20260422T184756
CREATED:20230127T160826Z
LAST-MODIFIED:20230127T161624Z
UID:1812-1696928400-1696933800@oldtownhousing.net
SUMMARY:Board Meeting
DESCRIPTION:HACOT Board of Commissioners meeting
URL:https://oldtownhousing.net/event/board-meeting-21/
CATEGORIES:Public
END:VEVENT
BEGIN:VEVENT
DTSTART;TZID=America/New_York:20231113T090000
DTEND;TZID=America/New_York:20231113T103000
DTSTAMP:20260422T184756
CREATED:20230127T160928Z
LAST-MODIFIED:20230127T161624Z
UID:1814-1699866000-1699871400@oldtownhousing.net
SUMMARY:Board Meeting
DESCRIPTION:HACOT Board of Commissioners meeting
URL:https://oldtownhousing.net/event/board-meeting-22/
CATEGORIES:Public
END:VEVENT
BEGIN:VEVENT
DTSTART;TZID=America/New_York:20231218T100000
DTEND;TZID=America/New_York:20231218T120000
DTSTAMP:20260422T184756
CREATED:20230127T161104Z
LAST-MODIFIED:20230127T161624Z
UID:1816-1702893600-1702900800@oldtownhousing.net
SUMMARY:Annual Board Meeting
DESCRIPTION:HACOT Board of Commissioners Annual meeting
URL:https://oldtownhousing.net/event/annual-board-meeting-2/
CATEGORIES:Public
END:VEVENT
BEGIN:VEVENT
DTSTART;TZID=America/New_York:20260112T090000
DTEND;TZID=America/New_York:20260112T100000
DTSTAMP:20260422T184756
CREATED:20260105T154110Z
LAST-MODIFIED:20260105T154213Z
UID:2181-1768208400-1768212000@oldtownhousing.net
SUMMARY:Board Meeting
DESCRIPTION:
URL:https://oldtownhousing.net/event/board-of-directors-meeting/
CATEGORIES:Public
END:VEVENT
BEGIN:VEVENT
DTSTART;TZID=America/New_York:20260209T090000
DTEND;TZID=America/New_York:20260209T100000
DTSTAMP:20260422T184756
CREATED:20260105T154940Z
LAST-MODIFIED:20260105T154940Z
UID:2184-1770627600-1770631200@oldtownhousing.net
SUMMARY:Board Meeting
DESCRIPTION:
URL:https://oldtownhousing.net/event/board-meeting-23/
CATEGORIES:Public
END:VEVENT
BEGIN:VEVENT
DTSTART;TZID=America/New_York:20260309T090000
DTEND;TZID=America/New_York:20260309T100000
DTSTAMP:20260422T184756
CREATED:20260105T155029Z
LAST-MODIFIED:20260105T155029Z
UID:2186-1773046800-1773050400@oldtownhousing.net
SUMMARY:Board Meeting
DESCRIPTION:
URL:https://oldtownhousing.net/event/board-meeting-24/
CATEGORIES:Public
END:VEVENT
BEGIN:VEVENT
DTSTART;TZID=America/New_York:20260413T090000
DTEND;TZID=America/New_York:20260413T100000
DTSTAMP:20260422T184756
CREATED:20260105T155101Z
LAST-MODIFIED:20260105T155101Z
UID:2188-1776070800-1776074400@oldtownhousing.net
SUMMARY:Board Meeting
DESCRIPTION:
URL:https://oldtownhousing.net/event/board-meeting-25/
CATEGORIES:Public
END:VEVENT
BEGIN:VEVENT
DTSTART;TZID=America/New_York:20260511T090000
DTEND;TZID=America/New_York:20260511T100000
DTSTAMP:20260422T184756
CREATED:20260105T155135Z
LAST-MODIFIED:20260105T155135Z
UID:2190-1778490000-1778493600@oldtownhousing.net
SUMMARY:Board Meeting
DESCRIPTION:
URL:https://oldtownhousing.net/event/board-meeting-26/
CATEGORIES:Public
END:VEVENT
BEGIN:VEVENT
DTSTART;TZID=America/New_York:20260608T090000
DTEND;TZID=America/New_York:20260608T100000
DTSTAMP:20260422T184756
CREATED:20260105T155207Z
LAST-MODIFIED:20260105T155207Z
UID:2192-1780909200-1780912800@oldtownhousing.net
SUMMARY:Board Meeting
DESCRIPTION:
URL:https://oldtownhousing.net/event/board-meeting-27/
CATEGORIES:Public
END:VEVENT
BEGIN:VEVENT
DTSTART;TZID=America/New_York:20260713T090000
DTEND;TZID=America/New_York:20260713T100000
DTSTAMP:20260422T184756
CREATED:20260105T160741Z
LAST-MODIFIED:20260105T160741Z
UID:2194-1783933200-1783936800@oldtownhousing.net
SUMMARY:Board Meeting
DESCRIPTION:
URL:https://oldtownhousing.net/event/board-meeting-28/
CATEGORIES:Public
END:VEVENT
BEGIN:VEVENT
DTSTART;TZID=America/New_York:20260810T090000
DTEND;TZID=America/New_York:20260810T100000
DTSTAMP:20260422T184756
CREATED:20260105T160805Z
LAST-MODIFIED:20260105T160805Z
UID:2196-1786352400-1786356000@oldtownhousing.net
SUMMARY:Board Meeting
DESCRIPTION:
URL:https://oldtownhousing.net/event/board-meeting-29/
CATEGORIES:Public
END:VEVENT
BEGIN:VEVENT
DTSTART;TZID=America/New_York:20260914T090000
DTEND;TZID=America/New_York:20260914T100000
DTSTAMP:20260422T184756
CREATED:20260105T160842Z
LAST-MODIFIED:20260105T160842Z
UID:2198-1789376400-1789380000@oldtownhousing.net
SUMMARY:Board Meeting
DESCRIPTION:
URL:https://oldtownhousing.net/event/board-meeting-30/
CATEGORIES:Public
END:VEVENT
BEGIN:VEVENT
DTSTART;TZID=America/New_York:20261013T090000
DTEND;TZID=America/New_York:20261013T100000
DTSTAMP:20260422T184756
CREATED:20260105T160913Z
LAST-MODIFIED:20260105T160913Z
UID:2200-1791882000-1791885600@oldtownhousing.net
SUMMARY:Board Meeting
DESCRIPTION:
URL:https://oldtownhousing.net/event/board-meeting-31/
CATEGORIES:Public
END:VEVENT
BEGIN:VEVENT
DTSTART;TZID=America/New_York:20261109T090000
DTEND;TZID=America/New_York:20261109T100000
DTSTAMP:20260422T184756
CREATED:20260105T160942Z
LAST-MODIFIED:20260105T160942Z
UID:2202-1794214800-1794218400@oldtownhousing.net
SUMMARY:Board Meeting
DESCRIPTION:
URL:https://oldtownhousing.net/event/board-meeting-32/
CATEGORIES:Public
END:VEVENT
BEGIN:VEVENT
DTSTART;TZID=America/New_York:20261221T090000
DTEND;TZID=America/New_York:20261221T100000
DTSTAMP:20260422T184757
CREATED:20260105T161013Z
LAST-MODIFIED:20260105T161013Z
UID:2204-1797843600-1797847200@oldtownhousing.net
SUMMARY:Annual Board Meeting
DESCRIPTION:
URL:https://oldtownhousing.net/event/annual-board-meeting-3/
CATEGORIES:Public
END:VEVENT
END:VCALENDAR