BEGIN:VCALENDAR
VERSION:2.0
PRODID:-//The Housing Authority of the City of Old Town - ECPv6.15.20//NONSGML v1.0//EN
CALSCALE:GREGORIAN
METHOD:PUBLISH
X-WR-CALNAME:The Housing Authority of the City of Old Town
X-ORIGINAL-URL:https://oldtownhousing.net
X-WR-CALDESC:Events for The Housing Authority of the City of Old Town
REFRESH-INTERVAL;VALUE=DURATION:PT1H
X-Robots-Tag:noindex
X-PUBLISHED-TTL:PT1H
BEGIN:VTIMEZONE
TZID:America/New_York
BEGIN:DAYLIGHT
TZOFFSETFROM:-0500
TZOFFSETTO:-0400
TZNAME:EDT
DTSTART:20190310T070000
END:DAYLIGHT
BEGIN:STANDARD
TZOFFSETFROM:-0400
TZOFFSETTO:-0500
TZNAME:EST
DTSTART:20191103T060000
END:STANDARD
BEGIN:DAYLIGHT
TZOFFSETFROM:-0500
TZOFFSETTO:-0400
TZNAME:EDT
DTSTART:20200308T070000
END:DAYLIGHT
BEGIN:STANDARD
TZOFFSETFROM:-0400
TZOFFSETTO:-0500
TZNAME:EST
DTSTART:20201101T060000
END:STANDARD
BEGIN:DAYLIGHT
TZOFFSETFROM:-0500
TZOFFSETTO:-0400
TZNAME:EDT
DTSTART:20210314T070000
END:DAYLIGHT
BEGIN:STANDARD
TZOFFSETFROM:-0400
TZOFFSETTO:-0500
TZNAME:EST
DTSTART:20211107T060000
END:STANDARD
BEGIN:DAYLIGHT
TZOFFSETFROM:-0500
TZOFFSETTO:-0400
TZNAME:EDT
DTSTART:20220313T070000
END:DAYLIGHT
BEGIN:STANDARD
TZOFFSETFROM:-0400
TZOFFSETTO:-0500
TZNAME:EST
DTSTART:20221106T060000
END:STANDARD
BEGIN:DAYLIGHT
TZOFFSETFROM:-0500
TZOFFSETTO:-0400
TZNAME:EDT
DTSTART:20230312T070000
END:DAYLIGHT
BEGIN:STANDARD
TZOFFSETFROM:-0400
TZOFFSETTO:-0500
TZNAME:EST
DTSTART:20231105T060000
END:STANDARD
BEGIN:DAYLIGHT
TZOFFSETFROM:-0500
TZOFFSETTO:-0400
TZNAME:EDT
DTSTART:20240310T070000
END:DAYLIGHT
BEGIN:STANDARD
TZOFFSETFROM:-0400
TZOFFSETTO:-0500
TZNAME:EST
DTSTART:20241103T060000
END:STANDARD
BEGIN:DAYLIGHT
TZOFFSETFROM:-0500
TZOFFSETTO:-0400
TZNAME:EDT
DTSTART:20250309T070000
END:DAYLIGHT
BEGIN:STANDARD
TZOFFSETFROM:-0400
TZOFFSETTO:-0500
TZNAME:EST
DTSTART:20251102T060000
END:STANDARD
BEGIN:DAYLIGHT
TZOFFSETFROM:-0500
TZOFFSETTO:-0400
TZNAME:EDT
DTSTART:20260308T070000
END:DAYLIGHT
BEGIN:STANDARD
TZOFFSETFROM:-0400
TZOFFSETTO:-0500
TZNAME:EST
DTSTART:20261101T060000
END:STANDARD
BEGIN:DAYLIGHT
TZOFFSETFROM:-0500
TZOFFSETTO:-0400
TZNAME:EDT
DTSTART:20270314T070000
END:DAYLIGHT
BEGIN:STANDARD
TZOFFSETFROM:-0400
TZOFFSETTO:-0500
TZNAME:EST
DTSTART:20271107T060000
END:STANDARD
END:VTIMEZONE
BEGIN:VEVENT
DTSTART;TZID=America/New_York:20260511T090000
DTEND;TZID=America/New_York:20260511T100000
DTSTAMP:20260422T182745
CREATED:20260105T155135Z
LAST-MODIFIED:20260105T155135Z
UID:2190-1778490000-1778493600@oldtownhousing.net
SUMMARY:Board Meeting
DESCRIPTION:
URL:https://oldtownhousing.net/event/board-meeting-26/
CATEGORIES:Public
END:VEVENT
BEGIN:VEVENT
DTSTART;TZID=America/New_York:20260413T090000
DTEND;TZID=America/New_York:20260413T100000
DTSTAMP:20260422T182745
CREATED:20260105T155101Z
LAST-MODIFIED:20260105T155101Z
UID:2188-1776070800-1776074400@oldtownhousing.net
SUMMARY:Board Meeting
DESCRIPTION:
URL:https://oldtownhousing.net/event/board-meeting-25/
CATEGORIES:Public
END:VEVENT
BEGIN:VEVENT
DTSTART;TZID=America/New_York:20260309T090000
DTEND;TZID=America/New_York:20260309T100000
DTSTAMP:20260422T182745
CREATED:20260105T155029Z
LAST-MODIFIED:20260105T155029Z
UID:2186-1773046800-1773050400@oldtownhousing.net
SUMMARY:Board Meeting
DESCRIPTION:
URL:https://oldtownhousing.net/event/board-meeting-24/
CATEGORIES:Public
END:VEVENT
BEGIN:VEVENT
DTSTART;TZID=America/New_York:20260209T090000
DTEND;TZID=America/New_York:20260209T100000
DTSTAMP:20260422T182745
CREATED:20260105T154940Z
LAST-MODIFIED:20260105T154940Z
UID:2184-1770627600-1770631200@oldtownhousing.net
SUMMARY:Board Meeting
DESCRIPTION:
URL:https://oldtownhousing.net/event/board-meeting-23/
CATEGORIES:Public
END:VEVENT
BEGIN:VEVENT
DTSTART;TZID=America/New_York:20260112T090000
DTEND;TZID=America/New_York:20260112T100000
DTSTAMP:20260422T182745
CREATED:20260105T154110Z
LAST-MODIFIED:20260105T154213Z
UID:2181-1768208400-1768212000@oldtownhousing.net
SUMMARY:Board Meeting
DESCRIPTION:
URL:https://oldtownhousing.net/event/board-of-directors-meeting/
CATEGORIES:Public
END:VEVENT
BEGIN:VEVENT
DTSTART;TZID=America/New_York:20251230T090000
DTEND;TZID=America/New_York:20251230T093000
DTSTAMP:20260422T182745
CREATED:20251112T130923Z
LAST-MODIFIED:20251112T130923Z
UID:2147-1767085200-1767087000@oldtownhousing.net
SUMMARY:Public Hearing
DESCRIPTION:The Housing Authority of the City of Old Town has updated its Public Housing Authority Annual and 5-Year Plan in compliance with the Quality Housing and Work Responsibility Act of 1998.  The PHA Plan is available for review at the Housing Authority’s office located at 358 Main Street\, Old Town\, Maine.  The Housing Authority’s hours of operation are 8:00 a.m. to 4:30 p.m.\, Monday through Thursday.  In addition\, a Public Hearing for the PHA Plan will be held on Tuesday\, December 30\, 2025 at 9:00 a.m. at the office of the Housing Authority.  The Public is invited to attend.
URL:https://oldtownhousing.net/event/public-hearing/
LOCATION:Old Town Housing Authority\, 358 Main Street\, Old Town\, ME\, 04468\, United States
END:VEVENT
BEGIN:VEVENT
DTSTART;TZID=America/New_York:20231218T100000
DTEND;TZID=America/New_York:20231218T120000
DTSTAMP:20260422T182745
CREATED:20230127T161104Z
LAST-MODIFIED:20230127T161624Z
UID:1816-1702893600-1702900800@oldtownhousing.net
SUMMARY:Annual Board Meeting
DESCRIPTION:HACOT Board of Commissioners Annual meeting
URL:https://oldtownhousing.net/event/annual-board-meeting-2/
CATEGORIES:Public
END:VEVENT
BEGIN:VEVENT
DTSTART;TZID=America/New_York:20231113T090000
DTEND;TZID=America/New_York:20231113T103000
DTSTAMP:20260422T182745
CREATED:20230127T160928Z
LAST-MODIFIED:20230127T161624Z
UID:1814-1699866000-1699871400@oldtownhousing.net
SUMMARY:Board Meeting
DESCRIPTION:HACOT Board of Commissioners meeting
URL:https://oldtownhousing.net/event/board-meeting-22/
CATEGORIES:Public
END:VEVENT
BEGIN:VEVENT
DTSTART;TZID=America/New_York:20231010T090000
DTEND;TZID=America/New_York:20231010T103000
DTSTAMP:20260422T182745
CREATED:20230127T160826Z
LAST-MODIFIED:20230127T161624Z
UID:1812-1696928400-1696933800@oldtownhousing.net
SUMMARY:Board Meeting
DESCRIPTION:HACOT Board of Commissioners meeting
URL:https://oldtownhousing.net/event/board-meeting-21/
CATEGORIES:Public
END:VEVENT
BEGIN:VEVENT
DTSTART;TZID=America/New_York:20230911T090000
DTEND;TZID=America/New_York:20230911T103000
DTSTAMP:20260422T182745
CREATED:20230127T160750Z
LAST-MODIFIED:20230127T161624Z
UID:1810-1694422800-1694428200@oldtownhousing.net
SUMMARY:Board Meeting
DESCRIPTION:HACOT Board of Commissioners meeting
URL:https://oldtownhousing.net/event/board-meeting-20/
CATEGORIES:Public
END:VEVENT
BEGIN:VEVENT
DTSTART;TZID=America/New_York:20230814T090000
DTEND;TZID=America/New_York:20230814T103000
DTSTAMP:20260422T182745
CREATED:20230127T160722Z
LAST-MODIFIED:20230127T161624Z
UID:1808-1692003600-1692009000@oldtownhousing.net
SUMMARY:Board Meeting
DESCRIPTION:HACOT Board of Commissioners meeting
URL:https://oldtownhousing.net/event/board-meeting-19/
CATEGORIES:Public
END:VEVENT
BEGIN:VEVENT
DTSTART;TZID=America/New_York:20230710T090000
DTEND;TZID=America/New_York:20230710T103000
DTSTAMP:20260422T182745
CREATED:20230127T160534Z
LAST-MODIFIED:20230127T161624Z
UID:1806-1688979600-1688985000@oldtownhousing.net
SUMMARY:Board Meeting
DESCRIPTION:HACOT Board of Commissioners meeting
URL:https://oldtownhousing.net/event/board-meeting-18/
CATEGORIES:Public
END:VEVENT
BEGIN:VEVENT
DTSTART;TZID=America/New_York:20230612T090000
DTEND;TZID=America/New_York:20230612T103000
DTSTAMP:20260422T182745
CREATED:20230127T160459Z
LAST-MODIFIED:20230127T161624Z
UID:1804-1686560400-1686565800@oldtownhousing.net
SUMMARY:Board Meeting
DESCRIPTION:HACOT Board of Commissioners meeting
URL:https://oldtownhousing.net/event/board-meeting-17/
CATEGORIES:Public
END:VEVENT
BEGIN:VEVENT
DTSTART;TZID=America/New_York:20230508T090000
DTEND;TZID=America/New_York:20230508T103000
DTSTAMP:20260422T182745
CREATED:20230127T160427Z
LAST-MODIFIED:20230127T161624Z
UID:1802-1683536400-1683541800@oldtownhousing.net
SUMMARY:Board Meeting
DESCRIPTION:HACOT Board of Commissioners meeting
URL:https://oldtownhousing.net/event/board-meeting-16/
CATEGORIES:Public
END:VEVENT
BEGIN:VEVENT
DTSTART;TZID=America/New_York:20230410T090000
DTEND;TZID=America/New_York:20230410T103000
DTSTAMP:20260422T182745
CREATED:20230127T152227Z
LAST-MODIFIED:20230127T161624Z
UID:1800-1681117200-1681122600@oldtownhousing.net
SUMMARY:Board Meeting
DESCRIPTION:HACOT Board of Commissioners meeting
URL:https://oldtownhousing.net/event/board-meeting-15/
CATEGORIES:Public
END:VEVENT
BEGIN:VEVENT
DTSTART;TZID=America/New_York:20230313T090000
DTEND;TZID=America/New_York:20230313T103000
DTSTAMP:20260422T182745
CREATED:20230127T152146Z
LAST-MODIFIED:20230127T161624Z
UID:1798-1678698000-1678703400@oldtownhousing.net
SUMMARY:Board Meeting
DESCRIPTION:HACOT Board of Commissioners meeting
URL:https://oldtownhousing.net/event/board-meeting-14/
CATEGORIES:Public
END:VEVENT
BEGIN:VEVENT
DTSTART;TZID=America/New_York:20230213T090000
DTEND;TZID=America/New_York:20230213T103000
DTSTAMP:20260422T182745
CREATED:20230127T152029Z
LAST-MODIFIED:20230127T161624Z
UID:1796-1676278800-1676284200@oldtownhousing.net
SUMMARY:Board Meeting
DESCRIPTION:HACOT Board of Commissioners meeting
URL:https://oldtownhousing.net/event/board-meeting-13/
CATEGORIES:Public
END:VEVENT
BEGIN:VEVENT
DTSTART;TZID=America/New_York:20211220T080000
DTEND;TZID=America/New_York:20211220T110000
DTSTAMP:20260422T182745
CREATED:20201222T183526Z
LAST-MODIFIED:20201222T183526Z
UID:1552-1639987200-1639998000@oldtownhousing.net
SUMMARY:Annual Board Meeting
DESCRIPTION:HACOT Board of Commissioners Annual meeting
URL:https://oldtownhousing.net/event/annual-board-meeting/
CATEGORIES:Public
END:VEVENT
BEGIN:VEVENT
DTSTART;TZID=America/New_York:20211108T090000
DTEND;TZID=America/New_York:20211108T103000
DTSTAMP:20260422T182745
CREATED:20201222T183410Z
LAST-MODIFIED:20201222T183410Z
UID:1550-1636362000-1636367400@oldtownhousing.net
SUMMARY:Board Meeting
DESCRIPTION:HACOT Board of Commissioners meeting
URL:https://oldtownhousing.net/event/board-meeting-12/
CATEGORIES:Public
END:VEVENT
BEGIN:VEVENT
DTSTART;TZID=America/New_York:20211012T090000
DTEND;TZID=America/New_York:20211012T103000
DTSTAMP:20260422T182745
CREATED:20201222T183318Z
LAST-MODIFIED:20201222T183318Z
UID:1548-1634029200-1634034600@oldtownhousing.net
SUMMARY:Board Meeting
DESCRIPTION:HACOT Board of Commissioners meeting
URL:https://oldtownhousing.net/event/board-meeting-11/
CATEGORIES:Public
END:VEVENT
BEGIN:VEVENT
DTSTART;TZID=America/New_York:20210913T090000
DTEND;TZID=America/New_York:20210913T103000
DTSTAMP:20260422T182745
CREATED:20201222T183227Z
LAST-MODIFIED:20201222T183227Z
UID:1546-1631523600-1631529000@oldtownhousing.net
SUMMARY:Board Meeting
DESCRIPTION:HACOT Board of Commissioners meeting
URL:https://oldtownhousing.net/event/board-meeting-10/
CATEGORIES:Public
END:VEVENT
BEGIN:VEVENT
DTSTART;TZID=America/New_York:20210809T090000
DTEND;TZID=America/New_York:20210809T103000
DTSTAMP:20260422T182745
CREATED:20201222T183135Z
LAST-MODIFIED:20201222T183135Z
UID:1544-1628499600-1628505000@oldtownhousing.net
SUMMARY:Board Meeting
DESCRIPTION:HACOT Board of Commissioners meeting
URL:https://oldtownhousing.net/event/board-meeting-9/
CATEGORIES:Public
END:VEVENT
BEGIN:VEVENT
DTSTART;TZID=America/New_York:20210712T090000
DTEND;TZID=America/New_York:20210712T103000
DTSTAMP:20260422T182745
CREATED:20201222T183044Z
LAST-MODIFIED:20201222T183044Z
UID:1542-1626080400-1626085800@oldtownhousing.net
SUMMARY:Board Meeting
DESCRIPTION:HACOT Board of Commissioners meeting
URL:https://oldtownhousing.net/event/board-meeting-8/
CATEGORIES:Public
END:VEVENT
BEGIN:VEVENT
DTSTART;TZID=America/New_York:20210614T090000
DTEND;TZID=America/New_York:20210614T103000
DTSTAMP:20260422T182745
CREATED:20201222T182910Z
LAST-MODIFIED:20201222T182910Z
UID:1540-1623661200-1623666600@oldtownhousing.net
SUMMARY:Board Meeting
DESCRIPTION:HACOT Board of Commissioners meeting
URL:https://oldtownhousing.net/event/board-meeting-7/
CATEGORIES:Public
END:VEVENT
BEGIN:VEVENT
DTSTART;TZID=America/New_York:20210510T090000
DTEND;TZID=America/New_York:20210510T103000
DTSTAMP:20260422T182745
CREATED:20201222T182810Z
LAST-MODIFIED:20201222T182810Z
UID:1538-1620637200-1620642600@oldtownhousing.net
SUMMARY:Board Meeting
DESCRIPTION:HACOT Board of Commissioners meeting
URL:https://oldtownhousing.net/event/board-meeting-6/
CATEGORIES:Public
END:VEVENT
BEGIN:VEVENT
DTSTART;TZID=America/New_York:20210412T090000
DTEND;TZID=America/New_York:20210412T103000
DTSTAMP:20260422T182745
CREATED:20201222T182645Z
LAST-MODIFIED:20201222T182645Z
UID:1536-1618218000-1618223400@oldtownhousing.net
SUMMARY:Board Meeting
DESCRIPTION:HACOT Board of Commissioners meeting
URL:https://oldtownhousing.net/event/board-meeting-5/
CATEGORIES:Public
END:VEVENT
BEGIN:VEVENT
DTSTART;TZID=America/New_York:20210308T090000
DTEND;TZID=America/New_York:20210308T103000
DTSTAMP:20260422T182745
CREATED:20201222T182357Z
LAST-MODIFIED:20201222T182357Z
UID:1534-1615194000-1615199400@oldtownhousing.net
SUMMARY:Board Meeting
DESCRIPTION:HACOT Board of Commissioners meeting
URL:https://oldtownhousing.net/event/board-meeting-4/
CATEGORIES:Public
END:VEVENT
BEGIN:VEVENT
DTSTART;TZID=America/New_York:20210208T090000
DTEND;TZID=America/New_York:20210208T103000
DTSTAMP:20260422T182745
CREATED:20201222T182000Z
LAST-MODIFIED:20201222T182513Z
UID:1531-1612774800-1612780200@oldtownhousing.net
SUMMARY:Board Meeting
DESCRIPTION:HACOT Board of Commissioners meeting
URL:https://oldtownhousing.net/event/board-meeting-3/
CATEGORIES:Public
END:VEVENT
BEGIN:VEVENT
DTSTART;TZID=America/New_York:20210111T090000
DTEND;TZID=America/New_York:20210111T103000
DTSTAMP:20260422T182745
CREATED:20201222T181843Z
LAST-MODIFIED:20201222T182528Z
UID:1528-1610355600-1610361000@oldtownhousing.net
SUMMARY:Board Meeting
DESCRIPTION:HACOT Board of Commissioners Meeting
URL:https://oldtownhousing.net/event/board-meeting-2/
CATEGORIES:Public
END:VEVENT
BEGIN:VEVENT
DTSTART;TZID=America/New_York:20201221T090000
DTEND;TZID=America/New_York:20201221T130000
DTSTAMP:20260422T182745
CREATED:20201009T143636Z
LAST-MODIFIED:20201009T143750Z
UID:1397-1608541200-1608555600@oldtownhousing.net
SUMMARY:Annual Meeting of the Board of Commissioners
DESCRIPTION:
URL:https://oldtownhousing.net/event/annual-meeting-of-the-board-of-commissioners/
END:VEVENT
END:VCALENDAR